BEGIN:VCALENDAR
VERSION:2.0
PRODID:-//Karlskrona City - ECPv6.15.12.2//NONSGML v1.0//EN
CALSCALE:GREGORIAN
METHOD:PUBLISH
X-WR-CALNAME:Karlskrona City
X-ORIGINAL-URL:https://www.karlskronacity.net
X-WR-CALDESC:Händelser för Karlskrona City
REFRESH-INTERVAL;VALUE=DURATION:PT1H
X-Robots-Tag:noindex
X-PUBLISHED-TTL:PT1H
BEGIN:VTIMEZONE
TZID:Europe/Stockholm
BEGIN:DAYLIGHT
TZOFFSETFROM:+0100
TZOFFSETTO:+0200
TZNAME:CEST
DTSTART:20250330T010000
END:DAYLIGHT
BEGIN:STANDARD
TZOFFSETFROM:+0200
TZOFFSETTO:+0100
TZNAME:CET
DTSTART:20251026T010000
END:STANDARD
BEGIN:DAYLIGHT
TZOFFSETFROM:+0100
TZOFFSETTO:+0200
TZNAME:CEST
DTSTART:20260329T010000
END:DAYLIGHT
BEGIN:STANDARD
TZOFFSETFROM:+0200
TZOFFSETTO:+0100
TZNAME:CET
DTSTART:20261025T010000
END:STANDARD
BEGIN:DAYLIGHT
TZOFFSETFROM:+0100
TZOFFSETTO:+0200
TZNAME:CEST
DTSTART:20270328T010000
END:DAYLIGHT
BEGIN:STANDARD
TZOFFSETFROM:+0200
TZOFFSETTO:+0100
TZNAME:CET
DTSTART:20271031T010000
END:STANDARD
END:VTIMEZONE
BEGIN:VEVENT
DTSTART;TZID=Europe/Stockholm:20260422T170000
DTEND;TZID=Europe/Stockholm:20260422T190000
DTSTAMP:20260422T150331
CREATED:20260418T053553Z
LAST-MODIFIED:20260418T053553Z
UID:10000259-1776877200-1776884400@www.karlskronacity.net
SUMMARY:Design AW hos The Home Company
DESCRIPTION:Design-AW \nGryhyttan\, String och Carl Hansen. \nKöp din biljett via THC \n100:-/ öl\, bubbel o smörrebröd \nQuiz o superfina vinster välkommen!
URL:https://www.karlskronacity.net/evenemang/design-aw-hos-the-home-company/
LOCATION:The home company
ATTACH;FMTTYPE=image/jpeg:https://www.karlskronacity.net/wp-content/uploads/2026/04/IMG_5462.jpeg
END:VEVENT
END:VCALENDAR